BEGIN:VCALENDAR
VERSION:2.0
PRODID:-//Corps Baruthia 220 Jahre//NONSGML kigkonsult.se iCalcreator 2.30.
 10//
CALSCALE:GREGORIAN
METHOD:PUBLISH
UID:7caaa860-8dec-4059-9fc2-4f1758ea9708
X-WR-CALNAME:iCagenda
X-WR-CALDESC:Event Management Extension for Joomla!
X-WR-RELCALID:3E26604A-50F4-4449-8B3E-E4F4932D05B5
X-WR-TIMEZONE:UTC
BEGIN:VTIMEZONE
TZID:UTC
END:VTIMEZONE
BEGIN:VEVENT
UID:0767a9da-0ee4-4128-9622-acace315c29f
DTSTAMP:20260424T111911Z
CATEGORIES:220. Bundesfest
CLASS:PUBLIC
DESCRIPTION:
DTSTART:20230715T123000Z
DTEND:20230715T133000Z
GEO:+49.606831;+11.014278
LOCATION:Corps Baruthia
ORGANIZER;CN=:kassier@corps-baruthia.de
SEQUENCE:1
SUMMARY:Fototermin
TRANSP:OPAQUE
URL:http://www.baruthia.de/index.php/component/icagenda/8-fototermin.html?I
 temid=101
END:VEVENT
END:VCALENDAR
