BEGIN:VCALENDAR
VERSION:2.0
PRODID:-//Corps Baruthia 220 Jahre//NONSGML kigkonsult.se iCalcreator 2.30.
 10//
CALSCALE:GREGORIAN
METHOD:PUBLISH
UID:875a0055-e09f-4df7-a482-50f5dde91231
X-WR-CALNAME:iCagenda
X-WR-CALDESC:Event Management Extension for Joomla!
X-WR-RELCALID:3E26604A-50F4-4449-8B3E-E4F4932D05B5
X-WR-TIMEZONE:UTC
BEGIN:VTIMEZONE
TZID:UTC
END:VTIMEZONE
BEGIN:VEVENT
UID:cfe6011b-3c3b-42d4-ad06-8a7622897c5d
DTSTAMP:20260425T132259Z
CATEGORIES:220. Bundesfest
CLASS:PUBLIC
DESCRIPTION:
DTSTART:20230715T103000Z
DTEND:20230715T120000Z
GEO:+49.606831;+11.014278
LOCATION:Corps Baruthia
ORGANIZER;CN=:kassier@corps-baruthia.de
SEQUENCE:1
SUMMARY:Festakt
TRANSP:OPAQUE
URL:http://www.baruthia.de/index.php/component/icagenda/7-festakt.html?Item
 id=101
END:VEVENT
END:VCALENDAR
